BEGIN:VCALENDAR
VERSION:2.0
PRODID:-//Penrith and District Beekeepers Association - ECPv6.15.20//NONSGML v1.0//EN
CALSCALE:GREGORIAN
METHOD:PUBLISH
X-WR-CALNAME:Penrith and District Beekeepers Association
X-ORIGINAL-URL:https://penrithbeekeepers.org
X-WR-CALDESC:Events for Penrith and District Beekeepers Association
REFRESH-INTERVAL;VALUE=DURATION:PT1H
X-Robots-Tag:noindex
X-PUBLISHED-TTL:PT1H
BEGIN:VTIMEZONE
TZID:Europe/London
BEGIN:DAYLIGHT
TZOFFSETFROM:+0000
TZOFFSETTO:+0100
TZNAME:BST
DTSTART:20240331T010000
END:DAYLIGHT
BEGIN:STANDARD
TZOFFSETFROM:+0100
TZOFFSETTO:+0000
TZNAME:GMT
DTSTART:20241027T010000
END:STANDARD
BEGIN:DAYLIGHT
TZOFFSETFROM:+0000
TZOFFSETTO:+0100
TZNAME:BST
DTSTART:20250330T010000
END:DAYLIGHT
BEGIN:STANDARD
TZOFFSETFROM:+0100
TZOFFSETTO:+0000
TZNAME:GMT
DTSTART:20251026T010000
END:STANDARD
BEGIN:DAYLIGHT
TZOFFSETFROM:+0000
TZOFFSETTO:+0100
TZNAME:BST
DTSTART:20260329T010000
END:DAYLIGHT
BEGIN:STANDARD
TZOFFSETFROM:+0100
TZOFFSETTO:+0000
TZNAME:GMT
DTSTART:20261025T010000
END:STANDARD
BEGIN:DAYLIGHT
TZOFFSETFROM:+0000
TZOFFSETTO:+0100
TZNAME:BST
DTSTART:20270328T010000
END:DAYLIGHT
BEGIN:STANDARD
TZOFFSETFROM:+0100
TZOFFSETTO:+0000
TZNAME:GMT
DTSTART:20271031T010000
END:STANDARD
END:VTIMEZONE
BEGIN:VEVENT
DTSTART;TZID=Europe/London:20260210T193000
DTEND;TZID=Europe/London:20260210T213000
DTSTAMP:20260423T095745
CREATED:20251205T163645Z
LAST-MODIFIED:20251206T150251Z
UID:46028-1770751800-1770759000@penrithbeekeepers.org
SUMMARY:Nutrition in Honey Bees
DESCRIPTION:Focussing on the nutritional requirements of bees at different times of the year\n-the role of the fat body in overwintering\,\n-the nutritional contents of different pollens\n-why bees need variety in their diet. \nPresenter: Margaret Murdin \nMargaret has been keeping bees for over 20 years and is a Master Beekeeper.\nShe has won the prestigious Wax Chandlers Award for the highest marks in the BBKA exams and holds the National Diploma in Beekeeping. Until recently\, Margaret  was a BBKA Trustee and is a Past President\, assistant moderator and examiner. She is a BBKA National Speaker. \n 
URL:https://penrithbeekeepers.org/event/nutrition-in-honey-bees/
LOCATION:Zoom See email sent to PBKA Members or email Margaret Riches chair@penrithbeekeepers.org\, United Kingdom
END:VEVENT
BEGIN:VEVENT
DTSTART;TZID=Europe/London:20260115T193000
DTEND;TZID=Europe/London:20260115T213000
DTSTAMP:20260423T095745
CREATED:20251206T144436Z
LAST-MODIFIED:20251206T150326Z
UID:46044-1768505400-1768512600@penrithbeekeepers.org
SUMMARY:What makes Bees Tick?
DESCRIPTION:(Glands\, hormones\, pheromones\, sense organs and much more! ) \nThe talk will describe how various glands (including those producing pheromones and hormones) and sense organs act together\, sometimes in very complex ways\, to control the colony. How does the bee manage when it has an impervious outer skeleton?  What does a superorganism mean in relation to the honey bee colony? The impacts on foraging\, swarming\, development of the individual bee and the colony will be discussed. \n  \nPresenter: Pam Hunter  \nPam is based in Sussex. She is a Master Beekeeper and BBKA National Speaker \n 
URL:https://penrithbeekeepers.org/event/what-makes-bees-tick/
LOCATION:Zoom See email sent to PBKA Members or email Margaret Riches chair@penrithbeekeepers.org\, United Kingdom
END:VEVENT
BEGIN:VEVENT
DTSTART;TZID=Europe/London:20251203T190000
DTEND;TZID=Europe/London:20251203T210000
DTSTAMP:20260423T095745
CREATED:20251205T170224Z
LAST-MODIFIED:20251206T150355Z
UID:46037-1764788400-1764795600@penrithbeekeepers.org
SUMMARY:  ‘Fast and slow beekeeping’.
DESCRIPTION:Wednesday 3rd December 2025 7.30.p.m. \nThe art of decision making in Beekeeping:- Knowing when to take timely action and when to be patient. -Making the right decisions for your bees. -Getting the best outcomes for you and your bees\nPresenter:   Kevin Thorne\nKevin is a Beefarmer with 50 hives in and around Lavenham\, Suffolk. Kevin is\npassionate about improving his bees to be calm\, healthy and productive and working\nto educate beekeepers in this area. He and his wife Julie run Stour Valley Apiaries\nand Busy Bees Cosmetics. Kevin has established a Bee Improvement Group at\nAbberton Reservoir in Essex\, working with local beekeepers\, Colchester BKA\, Essex\nand Suffolk Water and Essex Wildlife Trust to reintroduce the native black bee to the\narea.  Kevin is a BBKA  national speaker.
URL:https://penrithbeekeepers.org/event/fast-and-slow-beekeeping/
LOCATION:Zoom See email sent to PBKA Members or email Margaret Riches chair@penrithbeekeepers.org\, United Kingdom
END:VEVENT
BEGIN:VEVENT
DTSTART;TZID=Europe/London:20251113T190000
DTEND;TZID=Europe/London:20251113T210000
DTSTAMP:20260423T095745
CREATED:20251205T164534Z
LAST-MODIFIED:20251205T164534Z
UID:46034-1763060400-1763067600@penrithbeekeepers.org
SUMMARY:How can BBKA help you be a better beekeeper?
DESCRIPTION:This session will introduce the BBKA Qualifications and resources available to members and consider how you might prepare for BBKA qualifications\, as well as their value. \nBBKA Learning Online has a range of visual\, practical materials for both tutors and learners\, and we’d like to know what you want\, as well as what you think about what is already there. \nThe joy of beekeeping is that there is always something new to learn! \nThis session will be led by Jane Medwell (BBKA) who manages the ‘Learning Platform’ with Julia Hoggard (Kendal BKA) and Peter Weatherill (Cockermouth BKA) also providing information about the support that they can provide at the local level. \nPresenters:  \nJane Medwell: Jane Medwell learnt beekeeping from her mother in the 1970s – then learnt it all over again in the 1990s\, when she set up her own apiaries. She is a Master beekeeper\, BBKA Examiner\, trainer and member of Warwick and Leamington Beekeepers. In her other life\, she is an Associate Professor of Education. \nJulia Hoggard: Julia is a highly experienced beekeeper and trainer. She runs the Brigsteer Bee Reserve\, just outside Kendal. Until her recent retirement\, Julia was a Seasonal Bee Inspector. \nPeter Weatherill: An experienced beekeeper\, Peter is currently secretary of the Cockermouth Branch and is Education and Exam Secretary for Cumbria Beekeepers Area Association. \n  \n  \n  \nThursday 13th November 2025 \nat 7.00.pm.
URL:https://penrithbeekeepers.org/event/how-can-bbka-help-you-be-a-better-beekeeper/
END:VEVENT
END:VCALENDAR